BEGIN:VCALENDAR
VERSION:2.0
PRODID:icalendar-ruby
CALSCALE:GREGORIAN
METHOD:PUBLISH
BEGIN:VEVENT
DTSTAMP:20260425T202902Z
UID:96-3074178@rivermontbaptistchurch.org
DTSTART:20261025T220000Z
DTEND:20261025T230000Z
CLASS:PUBLIC
CREATED:20260425T145151
DESCRIPTION:Men's and Ladies' Bible Studies
LAST-MODIFIED:20260425T145151
LOCATION:
SUMMARY:Sunday Evening Service
URL;VALUE=URI:https://www.rivermontbaptistchurch.org/events/sunday-evening-
 service/2026-10-25
ATTACH;FILENAME=Sunday Evening Service.png;FMTTYPE=image/png:https://dq5pwp
 g1q8ru0.cloudfront.net/2024/11/08/23/34/16/ebab5589-db1a-40cc-99fe-a170563
 de926/Sunday%20Evening%20Service.png
END:VEVENT
END:VCALENDAR
